BEGIN:VCALENDAR
VERSION:2.0
PRODID:Events Booking
BEGIN:VEVENT
UID:69e953f9221e9
SUMMARY:2nd Dog Workshop | Clean Monday Long Weekend at Abelon Ktima Brintz
 iki
DESCRIPTION:BEGIN:VCALENDAR
 VERSION:2.0
 PRODID:-//Wanderlust Outdoor Ac
 tivities & Travel//Dog Workshop Brintziki//EL
 CALSCALE:GREGORIAN
 BEGIN
 :VEVENT
 UID:dog-workshop-brintziki-20260221@wanderlustactivities.gr
 DT
 STAMP:20251201T120000Z
 DTSTART\;VALUE=DATE:20260221
 DTEND\;VALUE=DATE:
 20260224
 SUMMARY:2ο Dog Workshop – Τριήμερο Καθαράς Δ
 ευτέρας
 LOCATION:Abelon Ktima Brintziki\, Λαντζόι Ηλεί
 ας\, Ελλάδα
 DESCRIPTION:Τριήμερο Καθαράς Δευτ
 έρας 2026 στο Abelon Ktima Brintziki με το 2ο Dog Workshop τ
 ης Wanderlust. Η εμπειρία πραγματοποιείται απ
 ό 21 έως 23 Φεβρουαρίου 2026 και περιλαμβάνε
 ι εκπαίδευση με την ομάδα Cityzen Dogs\, διαμον
 ή σε pet friendly ξενώνες\, οινοτουρισμό\, γαστ
 ρονομία\, Aroma Challenge\, γευσιγνωσία μπύρας κ
 αι δράσεις στη φύση.
 END:VEVENT
 END:VCALENDAR
 
LOCATION:Καρούτες - Λάλας\, Καρούτες\, Ηράκλει
 α\, Δήμος Πύργου\, Δήμος Αρχαίας Ολυμπίας\
 , Περιφερειακή Ενότητα Ηλείας\, Περιφέρε
 ια Δυτικής Ελλάδας\, Αποκεντρωμένη Διοίκ
 ηση Πελοποννήσου\, Δυτικής Ελλάδας και Ι
 ονίου\, 270 60\, Ελλάδα
DTSTART:20260221T090000Z
DTEND:20260223T120000Z
DTSTAMP:20251212T101215Z
ORGANIZER;CN=Wanderlust Outdoor Activities:MAILTO:info@wanderlustactivities
 .gr
GEO:37.708174;21.560533
X-APPLE-STRUCTURED-LOCATION;VALUE=URI;X-ADDRESS=Καρούτες - Λάλα
 ς\, Καρούτες\, Ηράκλεια\, Δήμος Πύργου\, Δή
 μος Αρχαίας Ολυμπίας\, Περιφερειακή Ενότ
 ητα Ηλείας\, Περιφέρεια Δυτικής Ελλάδας\,
  Αποκεντρωμένη Διοίκηση Πελοποννήσου\, Δ
 υτικής Ελλάδας και Ιονίου\, 270 60\, Ελλάδα;X-
 APPLE-RADIUS=72;X-TITLE=:37.708174;21.560533
END:VEVENT
END:VCALENDAR