BEGIN:VCALENDAR
VERSION:2.0
PRODID:Events Booking
BEGIN:VEVENT
UID:69e9664d3159a
SUMMARY:Anafi Hiking Escape | Easter in the Cyclades
DESCRIPTION:BEGIN:VCALENDAR
 VERSION:2.0
 PRODID:-//Wanderlust Outdoor Ac
 tivities & Travel//Anafi Easter Hiking//EL
 CALSCALE:GREGORIAN
 BEGIN:VE
 VENT
 UID:anafi-easter-hiking-2026@wanderlustactivities.gr
 DTSTAMP:2026
 0101T120000Z
 DTSTART\;VALUE=DATE:20260409
 DTEND\;VALUE=DATE:20260415

  SUMMARY:Πάσχα στην Ανάφη | Πεζοπορικό Ταξίδ
 ι στις Κυκλάδες
 DESCRIPTION:Πασχαλινό πεζοπο
 ρικό ταξίδι στην Ανάφη με 4 διανυκτερεύσ
 εις. Οργανωμένες πεζοπορίες σε εμβληματ
 ικές διαδρομές του νησιού\, αυθεντική κυ
 κλαδίτικη αρχιτεκτονική και ήσυχος ρυθμ
 ός ζωής στο νοτιοανατολικότερο άκρο των 
 Κυκλάδων. Διοργάνωση: Wanderlust Outdoor Activities & Tr
 avel.
 LOCATION:Ανάφη\, Κυκλάδες\, Ελλάδα
 END:VEVENT
 
 END:VCALENDAR
 
DTSTART:20260410T200000Z
DTEND:20260415T070000Z
DTSTAMP:20260117T092722Z
ORGANIZER;CN=Wanderlust Outdoor Activities:MAILTO:info@wanderlustactivities
 .gr
END:VEVENT
END:VCALENDAR