BEGIN:VCALENDAR
VERSION:2.0
PRODID:Events Booking
BEGIN:VEVENT
UID:69e954382dd41
SUMMARY:River Hiking in Asopos Gorge
DESCRIPTION:On Sunday 29/6 we will hike the railway path and cross the beau
 tiful Asopou gorge which is the natural border between the mountains of Oi
 tis and Kallidromou.
 
 
 
 
 
 
 
 
 
 
 
DTSTART:20250629T040000Z
DTEND:20250629T183000Z
DTSTAMP:20230918T170558Z
ORGANIZER;CN=Wanderlust Outdoor Activities:MAILTO:info@wanderlustactivities
 .gr
END:VEVENT
END:VCALENDAR