BEGIN:VCALENDAR
VERSION:2.0
PRODID:Events Booking
BEGIN:VEVENT
UID:69e9688631569
SUMMARY:Circular Hike in Parnitha – Karavola & Ornio Peaks
DESCRIPTION:Join us for an unforgettable hiking adventure in Mount Parnitha
 \, exploring the peaks of Karavola (1\,413 m) and Ornio (1\,350 m) on a be
 autiful circular route. This family-friendly hike combines breathtaking mo
 untain views\, forest trails\, and unique natural beauty\, making it perfe
 ct for hikers of all levels — including children. Enjoy the serenity of 
 nature just a short distance from Athens and reconnect with the outdoors.
LOCATION:Unnamed Road\, Acharnes 136 72\, Greece
DTSTART:20251129T070000Z
DTEND:20251129T110000Z
DTSTAMP:20251118T142000Z
ORGANIZER;CN=Wanderlust Outdoor Activities:MAILTO:info@wanderlustactivities
 .gr
GEO:38.168587;23.726422
X-APPLE-STRUCTURED-LOCATION;VALUE=URI;X-ADDRESS=Unnamed Road\, Acharnes 136
  72\, Greece;X-APPLE-RADIUS=72;X-TITLE=Bafi Refuge:38.168587;23.726422
END:VEVENT
END:VCALENDAR