BEGIN:VCALENDAR
VERSION:2.0
PRODID:Events Booking
BEGIN:VEVENT
UID:69e95b9706bcd
SUMMARY:Hiking at Lake Tsivlou – A Forest and Water Adventure on Mount He
 lmos
DESCRIPTION:On Sunday\, September 14\, join us for a refreshing hike to Lak
 e Tsivlou\, a natural treasure nestled on the slopes of Mount Helmos. The 
 trail combines forest immersion\, riverside trekking\, panoramic views\, a
 nd the serene beauty of a mountain lake.
LOCATION:Περιστέρας - Καλαβρύτων\, κ. Περιστέρ
 ας\, Περιστέρα\, Δημοτική Ενότητα Ακράτας
 \, Δήμος Αιγιαλείας\, Περιφερειακή Ενότητ
 α Αχαΐας\, Περιφέρεια Δυτικής Ελλάδας\, Α
 ποκεντρωμένη Διοίκηση Πελοποννήσου\, Δυ
 τικής Ελλάδας και Ιονίου\, 250 06\, Ελλάδα
DTSTART:20250914T040000Z
DTEND:20250914T180000Z
DTSTAMP:20250711T011709Z
ORGANIZER;CN=Wanderlust Outdoor Activities:MAILTO:info@wanderlustactivities
 .gr
GEO:38.023063;22.249943
X-APPLE-STRUCTURED-LOCATION;VALUE=URI;X-ADDRESS=Περιστέρας - Κα
 λαβρύτων\, κ. Περιστέρας\, Περιστέρα\, Δημ
 οτική Ενότητα Ακράτας\, Δήμος Αιγιαλείας
 \, Περιφερειακή Ενότητα Αχαΐας\, Περιφέρε
 ια Δυτικής Ελλάδας\, Αποκεντρωμένη Διοίκ
 ηση Πελοποννήσου\, Δυτικής Ελλάδας και Ι
 ονίου\, 250 06\, Ελλάδα;X-APPLE-RADIUS=72;X-TITLE=Peristera :38
 .023063;22.249943
END:VEVENT
END:VCALENDAR