BEGIN:VCALENDAR
VERSION:2.0
PRODID:Events Booking
BEGIN:VEVENT
UID:69e9688a72649
SUMMARY:Hiking in Dionysos – Northern Penteli & Open-Air Quarry Museum
DESCRIPTION:BEGIN:VCALENDAR
 VERSION:2.0
 PRODID:-//Wanderlust Outdoor Ac
 tivities & Travel//Event Calendar//EL
 CALSCALE:GREGORIAN
 METHOD:PUBLIS
 H
 BEGIN:VEVENT
 UID:dionysos-penteli-latomiki-texni-20260418@wanderlust
 activities.gr
 DTSTAMP:20260406T090000Z
 DTSTART\;TZID=Europe/Athens:202
 60418T100000
 DTEND\;TZID=Europe/Athens:20260418T140000
 SUMMARY:Πεζ
 οπορία στον Διόνυσο | Βόρεια Πεντέλη & Αν
 οιχτό Μουσείο Λατομικής Τέχνης
 LOCATION:Δι
 όνυσος\, Βόρεια Πεντέλη
 DESCRIPTION:Το Σάββατ
 ο 18/04/2026 πεζοπορούμε στον Διόνυσο\, στη βό
 ρεια Πεντέλη\, σε μια πράσινη κυκλική δια
 δρομή με επίσκεψη στο Ανοιχτό Μουσείο Λα
 τομικής Τέχνης και στάσεις στα εξωκλήσι
 α Αγίου Λουκά και Αγίου Νικήτα.\\n\\n
 Η δια
 δρομή κινείται σε φυσικό περιβάλλον με δ
 ασικά τμήματα και ιστορικά σημεία ενδια
 φέροντος\, ενώ περιλαμβάνει επιστροφή μέ
 σω της πηγής Σωληνάρι.\\n\\n
 Περιλαμβάνον
 ται: συνοδοί\, ομαδικό φαρμακείο\, αστική 
 επαγγελματική ευθύνη\, δορυφορική επικο
 ινωνία Iridium\, ασύρματη επικοινωνία VHF\, μπ
 άρα δημητριακών και χυμός Naturals.\\n\\n
 Η συ
 μμετοχή εξοφλείται την ημέρα της δραστη
 ριότητας.
 END:VEVENT
 END:VCALENDAR
DTSTART:20260418T070000Z
DTEND:20260418T110000Z
DTSTAMP:20260406T132809Z
ORGANIZER;CN=Wanderlust Outdoor Activities:MAILTO:info@wanderlustactivities
 .gr
END:VEVENT
END:VCALENDAR