BEGIN:VCALENDAR
VERSION:2.0
PRODID:Events Booking
BEGIN:VEVENT
UID:69e96a2145dcd
SUMMARY:Hiking in Dionysos – Northern Penteli & Open-Air Quarry Museum
DESCRIPTION:On Sunday\, March 29\, join us for a scenic circular hike in Di
 onysos\, Northern Penteli\, with a visit to the Open-Air Quarry Museum and
  stops at the chapels of Agios Loukas and Agios Nikitas.
DTSTART:20260329T070000Z
DTEND:20260329T110000Z
DTSTAMP:20260316T101247Z
ORGANIZER;CN=Wanderlust Outdoor Activities:MAILTO:info@wanderlustactivities
 .gr
END:VEVENT
END:VCALENDAR