BEGIN:VCALENDAR
VERSION:2.0
PRODID:Events Booking
BEGIN:VEVENT
UID:69e968c9645f2
SUMMARY:Hiking in Mount Hymettus – Circular Route in the Kaisariani Aesth
 etic Forest
DESCRIPTION:On Saturday\, December 13th\, we invite you to join us for a co
 mplete hiking experience on Mount Hymettus. This circular route in the Aes
 thetic Forest of Kaisariani combines nature\, history and relaxation\, jus
 t a few minutes away from the center of Athens.
LOCATION:XQ7V+JC Kesariani\, Greece
DTSTART:20251213T070000Z
DTEND:20251213T110000Z
DTSTAMP:20251119T060320Z
ORGANIZER;CN=Wanderlust Outdoor Activities:MAILTO:info@wanderlustactivities
 .gr
GEO:37.964233;23.792698
X-APPLE-STRUCTURED-LOCATION;VALUE=URI;X-ADDRESS=XQ7V+JC Kesariani\, Greece;
 X-APPLE-RADIUS=72;X-TITLE=Kaisariani Fire lookout station :37.964233;23.79
 2698
END:VEVENT
END:VCALENDAR