BEGIN:VCALENDAR
VERSION:2.0
PRODID:Events Booking
BEGIN:VEVENT
UID:69e9668c94688
SUMMARY:Hiking in Parnitha Mountain
DESCRIPTION:BEGIN:VCALENDAR
 VERSION:2.0
 PRODID:-//Wanderlust Outdoor Ac
 tivities & Travel//Event//EL
 CALSCALE:GREGORIAN
 METHOD:PUBLISH
 BEGIN
 :VEVENT
 UID:parnitha-mola-20260405T100000@wanderlustactivities.gr
 DTST
 AMP:20260326T070000Z
 DTSTART:20260405T100000
 DTEND:20260405T141500
 S
 UMMARY:Πεζοπορία στην Πάρνηθα
 LOCATION:Πάρνηθ
 α Θέση Μόλας
 DESCRIPTION:Wanderlust Outdoor Activities & Trave
 l\\n\\nΠεζοπορία στην Πάρνηθα | Κυριακή 05 Απ
 ριλίου\\nΚυκλική διαδρομή από τη θέση Μόλ
 α.\\n\\nΣυνάντηση: Θέση Μόλα (εκκλησάκι Αγί
 ου Πέτρου) στις 09:30.\\n\\nΔιαδρομή:\\n- Εκκίνη
 ση από τη θέση Μόλα (Άγιος Πέτρος)\\n- Πορε
 ία μέσα από Σαμάρι και Καν
 END:VEVENT
 END:VCALEND
 AR
DTSTART:20260405T070000Z
DTEND:20260405T111500Z
DTSTAMP:20260326T055028Z
ORGANIZER;CN=Wanderlust Outdoor Activities:MAILTO:info@wanderlustactivities
 .gr
END:VEVENT
END:VCALENDAR