BEGIN:VCALENDAR
VERSION:2.0
PRODID:Events Booking
BEGIN:VEVENT
UID:69e966d9ba21c
SUMMARY:Hiking in Parnitha Mountain
DESCRIPTION:Hiking in Parnitha | Sunday 21 October. Circular route from Mol
 a. An authentic experience in the heart of the national park just a few ki
 lometers from Athens.
DTSTART:20251221T080000Z
DTEND:20251221T121500Z
DTSTAMP:20251204T204807Z
ORGANIZER;CN=Wanderlust Outdoor Activities:MAILTO:info@wanderlustactivities
 .gr
END:VEVENT
END:VCALENDAR