BEGIN:VCALENDAR
VERSION:2.0
PRODID:Events Booking
BEGIN:VEVENT
UID:69e95815acb7b
SUMMARY:Hiking in Parnitha Mountain
DESCRIPTION:Hiking in Parnitha | Saturday 27 September. Circular route from
  Mola. An authentic experience in the heart of the national park just a fe
 w kilometers from Athens.
DTSTART:20250927T060000Z
DTEND:20250927T100000Z
DTSTAMP:20250909T181549Z
ORGANIZER;CN=Wanderlust Outdoor Activities:MAILTO:info@wanderlustactivities
 .gr
END:VEVENT
END:VCALENDAR