BEGIN:VCALENDAR
VERSION:2.0
PRODID:Events Booking
BEGIN:VEVENT
UID:69e968fb431a5
SUMMARY:Hiking Magouliana – Nymfasia on the Menalon Trail through the Sfy
 rida Forest
DESCRIPTION:On Sunday\, December 14th\, 2025\, Wanderlust Outdoor Activitie
 s &amp\; Travel invites you to experience an authentic hiking adventure in
  mountainous Arcadia. The route from Magouliana to Nymfasia is part of the
  certified Menalon Trail and takes you through the impressive Sfyrida Fore
 st\, with visits to historic monasteries and stone bridges along the way.
LOCATION:Κοινότητα Μαγουλιάνων\, Δημοτική Εν
 ότητα Βυτίνας\, Δήμος Γορτυνίας\, Περιφερ
 ειακή Ενότητα Αρκαδίας\, Περιφέρεια Πελο
 ποννήσου\, Αποκεντρωμένη Διοίκηση Πελοπ
 οννήσου\, Δυτικής Ελλάδας και Ιονίου\, 220 2
 6\, Ελλάδα
DTSTART:20251214T050000Z
DTEND:20251214T183000Z
DTSTAMP:20250925T195432Z
ORGANIZER;CN=Wanderlust Outdoor Activities:MAILTO:info@wanderlustactivities
 .gr
GEO:37.678015;22.129648
X-APPLE-STRUCTURED-LOCATION;VALUE=URI;X-ADDRESS=Κοινότητα Μαγο
 υλιάνων\, Δημοτική Ενότητα Βυτίνας\, Δήμο
 ς Γορτυνίας\, Περιφερειακή Ενότητα Αρκαδ
 ίας\, Περιφέρεια Πελοποννήσου\, Αποκεντρ
 ωμένη Διοίκηση Πελοποννήσου\, Δυτικής Ελ
 λάδας και Ιονίου\, 220 26\, Ελλάδα;X-APPLE-RADIUS=72;X
 -TITLE=Magouliana:37.678015;22.129648
END:VEVENT
END:VCALENDAR