BEGIN:VCALENDAR
VERSION:2.0
PRODID:Events Booking
BEGIN:VEVENT
UID:69e966542f800
SUMMARY:Hiking on Parnitha Mountain
DESCRIPTION:Live a unique hiking experience in the heart of Mount Parnitha 
 on Saturday\, January 10! A circular trail starting from the small chapel 
 of Agia Triada leads us through forest paths\, natural springs\, and spots
  with breathtaking views.
LOCATION:Πάρνηθος\, Κοινότητα Αχαρνών\, Δημοτ
 ική Ενότητα Αχαρνών\, Δήμος Αχαρνών\, Περ
 ιφερειακή Ενότητα Ανατολικής Αττικής\, Π
 εριφέρεια Αττικής\, Αποκεντρωμένη Διοίκ
 ηση Αττικής\, 136 76\, Ελλάδα
DTSTART:20260110T070000Z
DTEND:20260110T114500Z
DTSTAMP:20251217T093154Z
ORGANIZER;CN=Wanderlust Outdoor Activities:MAILTO:info@wanderlustactivities
 .gr
GEO:38.155846;23.720391
X-APPLE-STRUCTURED-LOCATION;VALUE=URI;X-ADDRESS=Πάρνηθος\, Κοιν
 ότητα Αχαρνών\, Δημοτική Ενότητα Αχαρνών
 \, Δήμος Αχαρνών\, Περιφερειακή Ενότητα Α
 νατολικής Αττικής\, Περιφέρεια Αττικής\, 
 Αποκεντρωμένη Διοίκηση Αττικής\, 136 76\, Ελ
 λάδα;X-APPLE-RADIUS=72;X-TITLE=Church of the Holy Trinity of the Water
  on Parnes:38.155846;23.720391
END:VEVENT
END:VCALENDAR