BEGIN:VCALENDAR
VERSION:2.0
PRODID:Events Booking
BEGIN:VEVENT
UID:69e95a720942c
SUMMARY:Hiking Valtetsiniko - Lagkadia 
DESCRIPTION:On Sunday 1/12 we will hike in beautiful Arcadia from Valtetsin
 iko to Lagadia! It is the 8th section of the menalon trail.
LOCATION:Κοιμήσεως της Θεοτόκου\, κ. Βαλτεσιν
 ίκου\, Βαλτεσινίκο\, Δημοτική Ενότητα Κλε
 ίτορος\, Δήμος Γορτυνίας\, Περιφερειακή Ε
 νότητα Αρκαδίας\, Περιφέρεια Πελοποννήσ
 ου\, Αποκεντρωμένη Διοίκηση Πελοποννήσο
 υ\, Δυτικής Ελλάδας και Ιονίου\, 220 14\, Ελλά
 δα
DTSTART:20241201T043000Z
DTEND:20241201T193000Z
DTSTAMP:20230918T170558Z
ORGANIZER;CN=Wanderlust Outdoor Activities:MAILTO:info@wanderlustactivities
 .gr
GEO:37.704521;22.096858
X-APPLE-STRUCTURED-LOCATION;VALUE=URI;X-ADDRESS=Κοιμήσεως της 
 Θεοτόκου\, κ. Βαλτεσινίκου\, Βαλτεσινίκο\,
  Δημοτική Ενότητα Κλείτορος\, Δήμος Γορτ
 υνίας\, Περιφερειακή Ενότητα Αρκαδίας\, Π
 εριφέρεια Πελοποννήσου\, Αποκεντρωμένη 
 Διοίκηση Πελοποννήσου\, Δυτικής Ελλάδας 
 και Ιονίου\, 220 14\, Ελλάδα;X-APPLE-RADIUS=72;X-TITLE=Valt
 etsiniko:37.704521;22.096858
END:VEVENT
END:VCALENDAR