BEGIN:VCALENDAR
VERSION:2.0
PRODID:Events Booking
BEGIN:VEVENT
UID:69e9664d31f36
SUMMARY:North Hymettus – Ridge Traverse
DESCRIPTION:BEGIN:VCALENDAR
 VERSION:2.0
 PRODID:-//Wanderlust Outdoor Ac
 tivities//Event Calendar//EN
 CALSCALE:GREGORIAN
 METHOD:PUBLISH
 BEGIN
 :VEVENT
 UID:ymittos-ridge-traverse-20260322@wanderlustactivities.gr
 DT
 STAMP:20260308T140000Z
 DTSTART\;TZID=Europe/Athens:20260322T091500
 DTE
 ND\;TZID=Europe/Athens:20260322T150000
 SUMMARY:Northern Hymettus Ridge T
 raverse | Hiking Experience
 LOCATION:Holy Monastery of Agios Ioannis Kyn
 igos\, Mount Hymettus
 DESCRIPTION:Circular hiking experience on the ridg
 e of Northern Hymettus with panoramic views over Attica.\\n\\nMeeting poin
 t: Holy Monastery of Agios Ioannis Kynigos\\nMeeting time: 09:15\\nDistanc
 e: 8 km\\nDifficulty level: Level B
 STATUS:CONFIRMED
 TRANSP:OPAQUE
 E
 ND:VEVENT
 END:VCALENDAR
LOCATION:Μονή Αγίου Ιωάννου Κυνηγού\, Σήραγγα
  Κολλεγίου\, Αγία Παρασκευή\, Δήμος Αγίας 
 Παρασκευής\, Περιφερειακή Ενότητα Βορεί
 ου Τομέα Αθηνών\, Περιφέρεια Αττικής\, Απ
 οκεντρωμένη Διοίκηση Αττικής\, 150 01\, Ελλά
 δα
DTSTART:20260322T073000Z
DTEND:20260322T123000Z
DTSTAMP:20260308T123412Z
ORGANIZER;CN=Wanderlust Outdoor Activities:MAILTO:info@wanderlustactivities
 .gr
GEO:38.002723;23.836778
X-APPLE-STRUCTURED-LOCATION;VALUE=URI;X-ADDRESS=Μονή Αγίου Ιωά
 ννου Κυνηγού\, Σήραγγα Κολλεγίου\, Αγία Π
 αρασκευή\, Δήμος Αγίας Παρασκευής\, Περιφ
 ερειακή Ενότητα Βορείου Τομέα Αθηνών\, Π
 εριφέρεια Αττικής\, Αποκεντρωμένη Διοίκ
 ηση Αττικής\, 150 01\, Ελλάδα;X-APPLE-RADIUS=72;X-TITLE=Ho
 lly Monastery of St.John Kynegos:38.002723;23.836778
END:VEVENT
END:VCALENDAR