BEGIN:VCALENDAR
VERSION:2.0
PRODID:Events Booking
BEGIN:VEVENT
UID:69e9685655adf
SUMMARY:Hiking in the Ancient Trail in Mycenae
DESCRIPTION:&nbsp\;On Sunday\, February 16\, the Wanderlust team will hike 
 the Mycenaean Road\, one of the oldest routes connecting Mycenae with the 
 adjacent basin in the village of Prosymni.
 
 
 
 
 
 
LOCATION:Mycenae branch\, Municipal Unit of Mykines\, Peloponnese\, Western
  Greece and the Ionian\, Greece
DTSTART:20250216T050000Z
DTEND:20250216T183000Z
DTSTAMP:20230918T170558Z
ORGANIZER;CN=Wanderlust Outdoor Activities:MAILTO:info@wanderlustactivities
 .gr
GEO:37.731811;22.756549
X-APPLE-STRUCTURED-LOCATION;VALUE=URI;X-ADDRESS=Mycenae branch\, Municipal 
 Unit of Mykines\, Peloponnese\, Western Greece and the Ionian\, Greece;X-A
 PPLE-RADIUS=72;X-TITLE=Archaeological Museum of Mycenae:37.731811;22.75654
 9
END:VEVENT
END:VCALENDAR