BEGIN:VCALENDAR
VERSION:2.0
PRODID:Events Booking
BEGIN:VEVENT
UID:69e959411bc40
SUMMARY:Trekking With Your Dog at Schinias National Park
DESCRIPTION:BEGIN:VCALENDAR
 VERSION:2.0
 PRODID:-//Wanderlust Outdoor Ac
 tivities & Travel//Events//EN
 CALSCALE:GREGORIAN
 METHOD:PUBLISH
 BEGI
 N:VEVENT
 UID:trekking-with-your-dog-schinias-20260214@wanderlustoutdoor.
 gr
 DTSTAMP:20260130T000000Z
 SUMMARY:Trekking With Your Dog στο Εθ
 νικό Πάρκο Σχινιά
 DTSTART\;TZID=Europe/Athens:20260214T10
 0000
 DTEND\;TZID=Europe/Athens:20260214T140000
 LOCATION:Εθνικό 
 Πάρκο Σχινιά (Σημείο συνάντησης/GPS)
 DESCRIPT
 ION:Σάββατο 14 Φεβρουαρίου: Οργανωμένη πεζ
 οπορία Trekking With Your Dog στο Εθνικό Πάρκο Σχι
 νιά. Μια εμπειρία φύσης\\\, κοινωνικοποίη
 σης και ενίσχυσης του δεσμού ανθρώπου κα
 ι σκύλου.\\n\\nΣημείο συν
 
DTSTART:20260214T080000Z
DTEND:20260214T113000Z
DTSTAMP:20260130T170338Z
ORGANIZER;CN=Wanderlust Outdoor Activities:MAILTO:info@wanderlustactivities
 .gr
END:VEVENT
END:VCALENDAR