BEGIN:VCALENDAR
VERSION:2.0
PRODID:Events Booking
BEGIN:VEVENT
UID:69e95b6a1f3fd
SUMMARY:Trekking With Your Dog (North Ymittos)
DESCRIPTION:On Saturday 08/06 we will hike in north side of&nbsp\; Ymittos 
 mountain with our four-legged friends\, on an easy but also beautiful rout
 e!
 
 
LOCATION:Μονή Αγίου Ιωάννου Κυνηγού\, Σήραγγα
  Κολλεγίου\, Αγία Παρασκευή\, Δήμος Αγίας 
 Παρασκευής\, Περιφερειακή Ενότητα Βορεί
 ου Τομέα Αθηνών\, Περιφέρεια Αττικής\, Απ
 οκεντρωμένη Διοίκηση Αττικής\, 150 01\, Ελλά
 δα
DTSTART:20240608T150000Z
DTEND:20240608T180000Z
DTSTAMP:20231005T185118Z
ORGANIZER;CN=Wanderlust Outdoor Activities:MAILTO:info@wanderlustactivities
 .gr
GEO:38.002723;23.836778
X-APPLE-STRUCTURED-LOCATION;VALUE=URI;X-ADDRESS=Μονή Αγίου Ιωά
 ννου Κυνηγού\, Σήραγγα Κολλεγίου\, Αγία Π
 αρασκευή\, Δήμος Αγίας Παρασκευής\, Περιφ
 ερειακή Ενότητα Βορείου Τομέα Αθηνών\, Π
 εριφέρεια Αττικής\, Αποκεντρωμένη Διοίκ
 ηση Αττικής\, 150 01\, Ελλάδα;X-APPLE-RADIUS=72;X-TITLE=Ho
 lly Monastery of St.John Kynegos:38.002723;23.836778
END:VEVENT
END:VCALENDAR