BEGIN:VCALENDAR
VERSION:2.0
PRODID:Events Booking
BEGIN:VEVENT
UID:69e95a9c1d0a4
SUMMARY:Trekking With Your Dog – Schinias
DESCRIPTION:BEGIN:VCALENDAR
 VERSION:2.0
 PRODID:-//Wanderlust Outdoor Ac
 tivities//Calendar Event//EN
 BEGIN:VEVENT
 UID:trekking-with-your-dog-s
 chinias-211225@wanderlust.gr
 DTSTAMP:20251221T070000Z
 DTSTART:20251221
 T070000Z
 DTEND:20251221T130000Z
 SUMMARY:Trekking With Your Dog – Sch
 inias | Guided Dog-Friendly Hike
 DESCRIPTION:Join us on Sunday\\\, Decem
 ber 21st 2025 for Trekking With Your Dog at Schinias\\
  National Park. A
  guided dog-friendly hike designed to strengthen the human–dog bond\\
 
  while exploring one of Attica’s most important natural environments. Le
 d by Petros\\
  Sidereas of CityZen Dogs with the support of Wanderlust O
 utdoor Activities & Travel.\\
  Meeting point: Schinias National Park.
 
 LOCATION:Schinias National Park\\\, Attica
 END:VEVENT
 END:VCALENDAR
DTSTART:20251221T080000Z
DTEND:20251221T113000Z
DTSTAMP:20251202T140833Z
ORGANIZER;CN=Wanderlust Outdoor Activities:MAILTO:info@wanderlustactivities
 .gr
END:VEVENT
END:VCALENDAR