BEGIN:VCALENDAR
VERSION:2.0
PRODID:Events Booking
BEGIN:VEVENT
UID:69e9415abb7e3
SUMMARY:Πεζοπορία στον Διόνυσο – Βόρεια Πεν
 τέλη & Ανοιχτό Μουσείο Λατομικής Τέχνης
DESCRIPTION:BEGIN:VCALENDAR
 VERSION:2.0
 PRODID:-//Wanderlust Outdoor Ac
 tivities & Travel//GR
 CALSCALE:GREGORIAN
 METHOD:PUBLISH
 BEGIN:VEVENT
 
 UID:20251206-dionysos-quarry@wanderlustactivities.gr
 DTSTAMP:20251128
 T000000Z
 DTSTART:20251206T090000
 DTEND:20251206T140000
 SUMMARY:Πε
 ζοπορία στον Διόνυσο – Ανοιχτό Μουσείο 
 Λατομικής Τέχνης
 LOCATION:Διόνυσος\, Βόρεια
  Πεντέλη\, Αττική
 DESCRIPTION:Πράσινη κυκλική
  πεζοπορία στον Διόνυσο στη βόρεια Πεντέ
 λη με επίσκεψη στο Ανοιχτό Μουσείο Λατομ
 ικής Τέχνης και στάσεις στα ξωκλήσια Αγί
 ου Λουκά και Αγίου Νικήτα\, με επιστροφή 
 από τη νότια πλευρά του μουσείου προς τη
 ν πηγή Σωληνάρι.
 END:VEVENT
 END:VCALENDAR
DTSTART:20251206T073000Z
DTEND:20251206T110000Z
DTSTAMP:20250911T100057Z
ORGANIZER;CN=Wanderlust Outdoor Activities:MAILTO:info@wanderlustactivities
 .gr
END:VEVENT
END:VCALENDAR