BEGIN:VCALENDAR
VERSION:2.0
PRODID:Events Booking
BEGIN:VEVENT
UID:69e94192a41a6
SUMMARY:Πεζοπορία στον Διόνυσο – Βόρεια Πεν
 τέλη & Ανοιχτό Μουσείο Λατομικής Τέχνης  
  
DESCRIPTION:Πεζοπορία την Κυριακή 29/3&nbsp\;στον Δ
 ιόνυσο\, στη βόρεια Πεντέλη\, με επίσκεψη 
 στο Ανοιχτό Μουσείο Λατομικής Τέχνης κα
 ι στάσεις σε Αγ. Λουκά &amp\; Αγ. Νικήτα\, σε 
 πράσινη κυκλική διαδρομή.
DTSTART:20260329T070000Z
DTEND:20260329T110000Z
DTSTAMP:20260316T101247Z
ORGANIZER;CN=Wanderlust Outdoor Activities:MAILTO:info@wanderlustactivities
 .gr
END:VEVENT
END:VCALENDAR