BEGIN:VCALENDAR
VERSION:2.0
PRODID:Events Booking
BEGIN:VEVENT
UID:69e92d90dea48
SUMMARY:Ποταμοδιάσχιση στο Φαράγγι Ασωπού 
DESCRIPTION:Την Κυριακή 29/06 θα διασχίσουμε το π
 ανέμορφο φαράγγι Ασωπού που είναι το φυσ
 ικό σύνορο μεταξύ των βουνών Οίτης και Κ
 αλλιδρόμου.
 
 
 
 
 
 
 
 
 
 
 
DTSTART:20250629T040000Z
DTEND:20250629T183000Z
DTSTAMP:20230918T170558Z
ORGANIZER;CN=Wanderlust Outdoor Activities:MAILTO:info@wanderlustactivities
 .gr
END:VEVENT
END:VCALENDAR