BEGIN:VCALENDAR
VERSION:2.0
PRODID:Events Booking
BEGIN:VEVENT
UID:69e9424c7c8d3
SUMMARY:Κυκλική Πεζοπορία Πάρνηθας – Γύρος 
 Καραβόλας & Όρνιου 
DESCRIPTION:BEGIN:VCALENDAR
 VERSION:2.0
 PRODID:-//Wanderlust Outdoor Ac
 tivities & Travel//Event//EL
 CALSCALE:GREGORIAN
 METHOD:PUBLISH
 BEGIN
 :VEVENT
 UID:parnitha-karavola-ornio-20260322T100000@wanderlustactivities
 .gr
 DTSTAMP:20260115T000000Z
 DTSTART\;TZID=Europe/Athens:20260322T1000
 00
 DTEND\;TZID=Europe/Athens:20260322T141500
 SUMMARY:Πάρνηθα | 
 Κυκλική Διαδρομή Καραβόλα (1.413μ.) & Όρνιο (
 1.350μ.)
 LOCATION:Καταφύγιο Μπάφι\, Πάρνηθα
 DESC
 RIPTION:Κυκλική πεζοπορία στην Πάρνηθα με α
 φετηρία το Καταφύγιο Μπάφι και γύρο των 
 κορυφών Καραβόλα (1.413μ.) και Όρνιο (1.350μ.). 
 Διαδρομή κατάλληλη και για παιδιά. Σημεί
 α ενδιαφέροντος: πηγή Σκίπιζα\, πυροφυλά
 κιο με πανοραμική θέα\, περάσματα από Μαδ
 έρες\, Τέμπλες\, Μπιλκίνιζα και κυκλική π
 ορεία γύρω από το Όρνιο από τη θέση Σαμάρ
 ι. Περιλαμβάνονται: συνοδοί\, ομαδικό φαρ
 μακείο\, αστική επαγγελματική ευθύνη\, δο
 ρυφορική επικοινωνία (Iridium)\, ασύρματη επ
 ικοινωνία VHF\, μπάρα δημητριακών 80gr και χ
 υμός αλόης 500ml.
 END:VEVENT
 END:VCALENDAR
LOCATION:Unnamed Road\, Acharnes 136 72\, Greece
DTSTART:20260322T080000Z
DTEND:20260322T121500Z
DTSTAMP:20260309T064014Z
ORGANIZER;CN=Wanderlust Outdoor Activities:MAILTO:info@wanderlustactivities
 .gr
GEO:38.168587;23.726422
X-APPLE-STRUCTURED-LOCATION;VALUE=URI;X-ADDRESS=Unnamed Road\, Acharnes 136
  72\, Greece;X-APPLE-RADIUS=72;X-TITLE=Μπάφι:38.168587;23.726422
END:VEVENT
END:VCALENDAR