BEGIN:VCALENDAR
VERSION:2.0
PRODID:Events Booking
BEGIN:VEVENT
UID:69e9424d0a6e2
SUMMARY:Κυκλική Πεζοπορία Πάρνηθας – Γύρος 
 Καραβόλας & Όρνιου 
DESCRIPTION:Ζήσε μια από τις πιο όμορφες κυκλι
 κές διαδρομές της Πάρνηθας το Σάββατο 29 
 Νοεμβρίου&nbsp\;! Θα περπατήσουμε τον γύρο 
 των δύο υψηλότερων κορυφών\, της Καραβόλ
 ας (1.413 μ.) και του Όρνιου (1.350 μ.)\, σε μια εμ
 πειρία που συνδυάζει εκπληκτική θέα\, δα
 σικά μονοπάτια και φυσική επαφή με το βο
 υνό. Η διαδρομή είναι ιδανική και για παι
 διά\, προσφέροντας μια ασφαλή και απολαυ
 στική εξόρμηση για όλη την οικογένεια.
LOCATION:Unnamed Road\, Acharnes 136 72\, Greece
DTSTART:20251129T070000Z
DTEND:20251129T110000Z
DTSTAMP:20251118T142000Z
ORGANIZER;CN=Wanderlust Outdoor Activities:MAILTO:info@wanderlustactivities
 .gr
GEO:38.168587;23.726422
X-APPLE-STRUCTURED-LOCATION;VALUE=URI;X-ADDRESS=Unnamed Road\, Acharnes 136
  72\, Greece;X-APPLE-RADIUS=72;X-TITLE=Μπάφι:38.168587;23.726422
END:VEVENT
END:VCALENDAR