BEGIN:VCALENDAR
VERSION:2.0
PRODID:Events Booking
BEGIN:VEVENT
UID:69e9428c4a99a
SUMMARY:Λίμνη Δασίου – Ανάβαση στην Περδικο
 ύλα | Χειμερινή Πεζοπορία 11/01/2026
DESCRIPTION:BEGIN:VCALENDAR
 VERSION:2.0
 PRODID:-//Wanderlust Outdoor Ac
 tivities//Calendar Event//EN
 BEGIN:VEVENT
 UID:lake-dasiou-perdikoula-1
 10126@wanderlust.gr
 DTSTAMP:20250101T090000Z
 DTSTART:20260111T044000Z
 
 DTEND:20260111T153000Z
 SUMMARY:Λίμνη Δασίου – Ανάβα
 ση στην Περδικούλα | Χειμερινή Πεζοπορία
 
 DESCRIPTION:Την Κυριακή 11 Ιανουαρίου 2026 η Wande
 rlust Outdoor Activities & Travel οργανώνει χειμερινή π
 εζοπορία στη Λίμνη Δασίου με σύντομη ανά
 βαση στην κορυφή Περδικούλα. Συνάντηση σ
 το Μετρό Αγ. Αντωνίου στις 06:40.
 LOCATION:Στάσ
 η Μετρό Αγ. Αντωνίου\\\, Αθήνα
 END:VEVENT
 END:VCA
 LENDAR
DTSTART:20260111T050000Z
DTEND:20260111T190000Z
DTSTAMP:20251129T211707Z
ORGANIZER;CN=Wanderlust Outdoor Activities:MAILTO:info@wanderlustactivities
 .gr
END:VEVENT
END:VCALENDAR