BEGIN:VCALENDAR
VERSION:2.0
PRODID:Events Booking
BEGIN:VEVENT
UID:69e9421494471
SUMMARY:Μανιταροεξόρμηση στο Μαίναλο Πιάνα 
 – Αλωνίσταινα
DESCRIPTION:BEGIN:VCALENDAR
 VERSION:2.0
 PRODID:-//Wanderlust Outdoor Ac
 tivities & Travel//GR
 CALSCALE:GREGORIAN
 METHOD:PUBLISH
 BEGIN:VEVENT
 
 UID:20251130-mainalo-wanderlust@wanderlustactivities.gr
 DTSTAMP:20251
 015T090000Z
 SUMMARY:Μανιταροεξόρμηση και πεζοπο
 ρία στο Μαίναλο (Πιάνα – Αλωνίσταινα)
 DTS
 TART\;TZID=Europe/Athens:20251130T064000
 DTEND\;TZID=Europe/Athens:20251
 130T210000
 LOCATION:Μαίναλο\\\, Αρκαδία — Διαδρομ
 ή Πιάνα – Αλωνίσταινα
 DESCRIPTION:Κυριακή 30 
 Νοεμβρίου 2025 — Βιωματική μανιταροεξόρμ
 ηση και ήπια πεζοπορία στο Μαίναλο με πι
 στοποιημένο μανιταρογνώστη. Διαδρομή Πι
 άνα – Αλωνίσταινα μέσα από ελατοδάση κα
 ι φθινοπωρινά ξέφωτα.\\
  Σημείο συνάντησ
 ης: Μετρό Αγ. Αντωνίου στις 06:40.\\
  Περιλα
 μβάνονται: μεταφορά με λεωφορείο\\\, μπάρ
 α δημητριακών 80gr και χυμός αλόης 500ml της N
 aturals\\\, πιστοποιημένος μανιταρογνώστης\\\
 , αμοιβές συνοδών\\\, ομαδικό φαρμακείο\\\, 
 αστική επαγγελματική ευθύνη\\\, δορυφορι
 κό σύστημα Iridium\\\, ασύρματη επικοινωνία VH
 F\\\, σχεδιασμός και υλοποίηση.\\
  Μετά την
  πεζοπορία: παραδοσιακό γεύμα στην Αλωνί
 σταινα.\\
  Σημειώσεις: κατάλληλο για βασ
 ική φυσική κατάσταση· απαραίτητο πεζοπο
 ρικό παπούτσι ή μποτάκι. Αναλυτικές οδηγ
 ίες κράτησης αποστέλλονται με email.
 ORGANIZER
 \;CN=Wanderlust Outdoor Activities & Travel:MAILTO:tasoskonstantinidis85@g
 mail.com
 END:VEVENT
 END:VCALENDAR
 
DTSTART:20251130T050000Z
DTEND:20251130T190000Z
DTSTAMP:20251015T051519Z
ORGANIZER;CN=Wanderlust Outdoor Activities:MAILTO:info@wanderlustactivities
 .gr
END:VEVENT
END:VCALENDAR