BEGIN:VCALENDAR
VERSION:2.0
PRODID:Events Booking
BEGIN:VEVENT
UID:69e92e56e15c4
SUMMARY:Moon Trekking With Your Dog 
DESCRIPTION:Το Σάββατο 16/12\, για 2η φορά θα κάνου
 με Βραδινή Πεζοπορία με τα σκυλάκια μας 
 στο Ποικίλο Όρος στην Πετρούπολη! Θα ανέ
 βουμε ξανά στην κορυφή Ζαχαρίτσα με τα σ
 κυλάκια μας σε μια εύκολη και απολαυστικ
 ή διαδρομή!
LOCATION:3M3M+49 Ίλιον\, Ελλάδα
DTSTART:20231216T150000Z
DTEND:20231216T190000Z
DTSTAMP:20231005T182351Z
ORGANIZER;CN=Wanderlust Outdoor Activities:MAILTO:info@wanderlustactivities
 .gr
GEO:38.052804;23.683407
X-APPLE-STRUCTURED-LOCATION;VALUE=URI;X-ADDRESS=3M3M+49 Ίλιον\, Ελλ
 άδα;X-APPLE-RADIUS=72;X-TITLE=Ποικίλο Όρος /Πετρούπο
 λη :38.052804;23.683407
END:VEVENT
END:VCALENDAR