BEGIN:VCALENDAR
VERSION:2.0
PRODID:Events Booking
BEGIN:VEVENT
UID:69e91985ae95c
SUMMARY:Πάρνηθα o γύρος των κορυφών
DESCRIPTION:Το Σάββατο 3/6 θα πεζοπορήσουμε ένα 
 από τα πιο ωραία μονοπάτια της Πάρνηθας. 
 Τον γύρο των υψηλότερων κορυφών\, της Καρ
 αβόλας με 1413 υψόμετρο και του Όρνιου με υ
 ψόμετρο 1350.
 
 
 
 
 
 
 
LOCATION:Unnamed Road\, Acharnes 136 72\, Greece
DTSTART:20230603T060000Z
DTEND:20230603T100000Z
DTSTAMP:20230522T152250Z
ORGANIZER;CN=Wanderlust Outdoor Activities:MAILTO:info@wanderlustactivities
 .gr
GEO:38.168587;23.726422
X-APPLE-STRUCTURED-LOCATION;VALUE=URI;X-ADDRESS=Unnamed Road\, Acharnes 136
  72\, Greece;X-APPLE-RADIUS=72;X-TITLE=Μπάφι:38.168587;23.726422
END:VEVENT
END:VCALENDAR