BEGIN:VCALENDAR
VERSION:2.0
PRODID:Events Booking
BEGIN:VEVENT
UID:69e9424724571
SUMMARY:Πεζοπορία Μαγούλιανα – Νυμφασία στο
  Menalon Trail μέσα από το Δάσος της Σφυρίδας
DESCRIPTION:Την Κυριακή 14 Δεκεμβρίου 2025\, η Wanderl
 ust Outdoor Activities &amp\; Travel σε καλεί να ζήσεις μ
 ια αυθεντική εμπειρία πεζοπορίας στην ο
 ρεινή Αρκαδία. Η διαδρομή από τα Μαγούλι
 ανα έως τη Νυμφασία αποτελεί το 6ο τμήμα 
 του πιστοποιημένου Menalon Trail και περνά μέσ
 α από το εντυπωσιακό Δάσος της Σφυρίδας\,
  με στάσεις σε ιστορικά μοναστήρια και π
 έτρινα γεφύρια.
LOCATION:Κοινότητα Μαγουλιάνων\, Δημοτική Εν
 ότητα Βυτίνας\, Δήμος Γορτυνίας\, Περιφερ
 ειακή Ενότητα Αρκαδίας\, Περιφέρεια Πελο
 ποννήσου\, Αποκεντρωμένη Διοίκηση Πελοπ
 οννήσου\, Δυτικής Ελλάδας και Ιονίου\, 220 2
 6\, Ελλάδα
DTSTART:20251214T050000Z
DTEND:20251214T183000Z
DTSTAMP:20250925T195432Z
ORGANIZER;CN=Wanderlust Outdoor Activities:MAILTO:info@wanderlustactivities
 .gr
GEO:37.678015;22.129648
X-APPLE-STRUCTURED-LOCATION;VALUE=URI;X-ADDRESS=Κοινότητα Μαγο
 υλιάνων\, Δημοτική Ενότητα Βυτίνας\, Δήμο
 ς Γορτυνίας\, Περιφερειακή Ενότητα Αρκαδ
 ίας\, Περιφέρεια Πελοποννήσου\, Αποκεντρ
 ωμένη Διοίκηση Πελοποννήσου\, Δυτικής Ελ
 λάδας και Ιονίου\, 220 26\, Ελλάδα;X-APPLE-RADIUS=72;X
 -TITLE=Μαγούλιανα :37.678015;22.129648
END:VEVENT
END:VCALENDAR