BEGIN:VCALENDAR
VERSION:2.0
PRODID:Events Booking
BEGIN:VEVENT
UID:69e954a98facb
SUMMARY:Πεζοπορία στα Μέθανα
DESCRIPTION:BEGIN:VCALENDAR
 VERSION:2.0
 PRODID:-//Wanderlust Outdoor Ac
 tivities//Hiking Methana//EL
 CALSCALE:GREGORIAN
 BEGIN:VEVENT
 UID:met
 hana-hiking-20250419@wanderlust
 DTSTAMP:20250401T090000Z
 DTSTART:20250
 419T070000Z
 DTEND:20250419T170000Z
 SUMMARY:Πεζοπορία στα 
 Μέθανα | Wanderlust
 DESCRIPTION:Πεζοπορία στα Μέθα
 να σε μοναδικό ηφαιστειακό τοπίο με πανο
 ραμική θέα στον Σαρωνικό. Οργανωμένη πεζ
 οπορική εμπειρία από τη Wanderlust Outdoor Activities.
 
 LOCATION:Χερσόνησος Μεθάνων\, Ελλάδα
 END:VEVEN
 T
 END:VCALENDAR
 
DTSTART:20260419T040000Z
DTEND:20260419T170000Z
DTSTAMP:20251213T204731Z
ORGANIZER;CN=Wanderlust Outdoor Activities:MAILTO:info@wanderlustactivities
 .gr
END:VEVENT
END:VCALENDAR