BEGIN:VCALENDAR
VERSION:2.0
PRODID:Events Booking
BEGIN:VEVENT
UID:69e94131ac642
SUMMARY:Πεζοπορία στην Πάρνηθα  
DESCRIPTION:Πεζοπορία στην Πάρνηθα | Κυριακή 21 
 Δεκεμβρίου. Κυκλική διαδρομή από τη θέση
  Μόλα! Μια αυθεντική εμπειρία φύσης λίγα 
 μόλις χιλιόμετρα από την Αθήνα.
DTSTART:20251221T080000Z
DTEND:20251221T121500Z
DTSTAMP:20251204T204807Z
ORGANIZER;CN=Wanderlust Outdoor Activities:MAILTO:info@wanderlustactivities
 .gr
END:VEVENT
END:VCALENDAR