BEGIN:VCALENDAR
VERSION:2.0
PRODID:Events Booking
BEGIN:VEVENT
UID:69e941d67fba3
SUMMARY:Μια διαφορετική πεζοπορία στην Πάρν
 ηθα: Από την Αγία Τριάδα στο Πυροφυλάκιο 
DESCRIPTION:Ζήσε μια μοναδική εμπειρία πεζοπο
 ρίας στην καρδιά της Πάρνηθας το Σάββατο
  10 Ιανουαρίου! Μια κυκλική διαδρομή που ξ
 εκινά από το εκκλησάκι της Αγίας Τριάδας
  και μας οδηγεί μέσα από μονοπάτια\, πηγέ
 ς και σημεία με απέραντη θέα.
LOCATION:Πάρνηθος\, Κοινότητα Αχαρνών\, Δημοτ
 ική Ενότητα Αχαρνών\, Δήμος Αχαρνών\, Περ
 ιφερειακή Ενότητα Ανατολικής Αττικής\, Π
 εριφέρεια Αττικής\, Αποκεντρωμένη Διοίκ
 ηση Αττικής\, 136 76\, Ελλάδα
DTSTART:20260110T070000Z
DTEND:20260110T114500Z
DTSTAMP:20251217T093154Z
ORGANIZER;CN=Wanderlust Outdoor Activities:MAILTO:info@wanderlustactivities
 .gr
GEO:38.155846;23.720391
X-APPLE-STRUCTURED-LOCATION;VALUE=URI;X-ADDRESS=Πάρνηθος\, Κοιν
 ότητα Αχαρνών\, Δημοτική Ενότητα Αχαρνών
 \, Δήμος Αχαρνών\, Περιφερειακή Ενότητα Α
 νατολικής Αττικής\, Περιφέρεια Αττικής\, 
 Αποκεντρωμένη Διοίκηση Αττικής\, 136 76\, Ελ
 λάδα;X-APPLE-RADIUS=72;X-TITLE=Αγία Τριάδα Πάρνηθα :3
 8.155846;23.720391
END:VEVENT
END:VCALENDAR