BEGIN:VCALENDAR
VERSION:2.0
PRODID:Events Booking
BEGIN:VEVENT
UID:69e92e8c79a82
SUMMARY:Πεζοπορία στo Δρυόδασος Μογγοστού 
DESCRIPTION:&nbsp\;Την Κυριακή 24/11 θα πεζοπορήσου
 με στο πρεμνοφυές Δρουόδασος Μογγοστού 
 στην ορεινή Κορινθία. Σε ένα από τα λίγα 
 απομεινάρια των πανάρχαιων δασών βελανι
 διάς της Πελοποννήσου.
 
 
 
 
 
 
 
 
 
 
LOCATION:κ. Σουλίου\, Σούλι\, Δημοτική Ενότητα 
 Σικυωνίων\, Δήμος Σικυωνίων\, Περιφερεια
 κή Ενότητα Κορινθίας\, Περιφέρεια Πελοπο
 ννήσου\, Αποκεντρωμένη Διοίκηση Πελοπον
 νήσου\, Δυτικής Ελλάδας και Ιονίου\, 200 15\, 
 Ελλάδα
DTSTART:20241124T050000Z
DTEND:20241124T180000Z
DTSTAMP:20230918T170558Z
ORGANIZER;CN=Wanderlust Outdoor Activities:MAILTO:info@wanderlustactivities
 .gr
GEO:37.998329;22.609845
X-APPLE-STRUCTURED-LOCATION;VALUE=URI;X-ADDRESS=κ. Σουλίου\, Σού
 λι\, Δημοτική Ενότητα Σικυωνίων\, Δήμος Σ
 ικυωνίων\, Περιφερειακή Ενότητα Κορινθί
 ας\, Περιφέρεια Πελοποννήσου\, Αποκεντρω
 μένη Διοίκηση Πελοποννήσου\, Δυτικής Ελλ
 άδας και Ιονίου\, 200 15\, Ελλάδα;X-APPLE-RADIUS=72;X-T
 ITLE=Δρυόδασος Μογγοστού :37.998329;22.609845
END:VEVENT
END:VCALENDAR