BEGIN:VCALENDAR
VERSION:2.0
PRODID:Events Booking
BEGIN:VEVENT
UID:69e9557e70108
SUMMARY:Πεζοπορία στο Μαίναλο | Ροεινό – Αλω
 νίσταινα | Κυριακή 17 Μαΐου
DESCRIPTION:BEGIN:VCALENDAR
 VERSION:2.0
 PRODID:-//Wanderlust Outdoor Ac
 tivities & Travel//Event Calendar//GR
 CALSCALE:GREGORIAN
 BEGIN:VEVENT
 
 UID:mainalo-roino-alonistaina-17052026@wanderlustactivities.gr
 DTSTAMP
 :20260407T120000Z
 DTSTART:20260517T034000Z
 DTEND:20260517T180000Z
 SU
 MMARY:Πεζοπορία στο Μαίναλο | Ροεινό – Αλων
 ίσταινα
 DESCRIPTION:Την Κυριακή 17 Μαΐου πεζο
 πορούμε στο Μαίναλο ακολουθώντας τη δασ
 ική διαδρομή από το Ροεινό έως την Αλωνί
 σταινα μέσα σε πυκνό ελατόδασος της Αρκα
 δίας.\\n\\nΗ δραστηριότητα πραγματοποιείτ
 αι με μετακίνηση από Αθήνα και συνοδεία 
 της Wanderlust Outdoor Activities & Travel.
 LOCATION:Μαίναλο 
 Αρκαδίας
 BEGIN:VALARM
 TRIGGER:-P1D
 ACTION:DISPLAY
 DESCRIPT
 ION:Υπενθύμιση δραστηριότητας Wanderlust Outdoor A
 ctivities & Travel
 END:VALARM
 END:VEVENT
 END:VCALENDAR
LOCATION:Municipa Unit of Falanthos\, 22100 Peloponnese\, Western Greece an
 d the Ionian\, Greece
DTSTART:20260517T040000Z
DTEND:20260517T180000Z
DTSTAMP:20260407T115240Z
ORGANIZER;CN=Wanderlust Outdoor Activities:MAILTO:info@wanderlustactivities
 .gr
GEO:37.577918;22.285622
X-APPLE-STRUCTURED-LOCATION;VALUE=URI;X-ADDRESS=Municipa Unit of Falanthos\
 , 22100 Peloponnese\, Western Greece and the Ionian\, Greece;X-APPLE-RADIU
 S=72;X-TITLE=Ροεινό :37.577918;22.285622
END:VEVENT
END:VCALENDAR