BEGIN:VCALENDAR
VERSION:2.0
PRODID:Events Booking
BEGIN:VEVENT
UID:69e97df21c91a
SUMMARY:Πεζοπορία στον Αρχαίο Μυκηναϊκό Δρό
 μο
DESCRIPTION:Την Κυριακή 16 Φεβρουαρίου&nbsp\;θα πε
 ζοπορήσουμε στον&nbsp\;Μυκηναϊκό Δρόμο σε 
 μια από τις αρχαιότερες διαδρομές που συ
 νδέει τις Μυκήνες με την παρακείμενη λεκ
 άνη στο χωριό Προσύμνη.
 
 
 
 
 
 
 
 
 
LOCATION:Mycenae branch\, Municipal Unit of Mykines\, Peloponnese\, Western
  Greece and the Ionian\, Greece
DTSTART:20250216T050000Z
DTEND:20250216T183000Z
DTSTAMP:20230918T170558Z
ORGANIZER;CN=Wanderlust Outdoor Activities:MAILTO:info@wanderlustactivities
 .gr
GEO:37.731811;22.756549
X-APPLE-STRUCTURED-LOCATION;VALUE=URI;X-ADDRESS=Mycenae branch\, Municipal 
 Unit of Mykines\, Peloponnese\, Western Greece and the Ionian\, Greece;X-A
 PPLE-RADIUS=72;X-TITLE=Archaeological Museum of Mycenae:37.731811;22.75654
 9
END:VEVENT
END:VCALENDAR