BEGIN:VCALENDAR
VERSION:2.0
PRODID:Events Booking
BEGIN:VEVENT
UID:69e9421526551
SUMMARY:Πεζοπορία στον Μυκηναϊκό Δρόμο – Μυ
 κήνες προς Προσύμνη  
DESCRIPTION:BEGIN:VCALENDAR
 VERSION:2.0
 PRODID:-//Wanderlust Outdoor Ac
 tivities//Mycenae Hiking 2026//EN
 CALSCALE:GREGORIAN
 BEGIN:VEVENT
 UI
 D:mycenae-hiking-29032026@wanderlustoutdoor.gr
 DTSTAMP:20260101T090000Z
 
 DTSTART:20260329T064000
 DTEND:20260329T200000
 SUMMARY:Μυκήνες
  – Μυκηναϊκός Δρόμος | Mycenaean Road Hiking Experience
 
 LOCATION:Στάση Μετρό Αγίου Αντωνίου / Agios Anton
 ios Metro Station\, Athens\, Greece
 DESCRIPTION:Κυριακή 29 Μαρ
 τίου 2026 – Μονοήμερη πεζοπορία στον Μυκη
 ναϊκό Δρόμο (Μυκήνες – Προσύμνη).\\n\\nΠεζο
 πορία σε μία από τις αρχαιότερες διαδρομ
 ές της Ελλάδας\, με γεφύρια\, θολωτό τάφο\,
  ρωμαϊκά κατάλοιπα και πανοραμική θέα στ
 ον αργολικό κάμπο.\\n\\nΜεταφορά με λεωφορ
 είο από Αθήνα. Συνάντηση 06:40 στη στάση Με
 τρό Αγίου Αντωνίου.\\n\\nΜετά την πεζοπορί
 α θα ακολουθήσει στάση σε παραδοσιακή τα
 βέρνα της περιοχής.\\n\\n---\\n\\nSunday 29 March 2026 –
  Full-day hiking experience along the Mycenaean Road (Mycenae – Prosymna
 ).\\n\\nWalk on one of the oldest preserved roads in Greece\, including an
 cient bridges\, a Mycenaean tholos tomb\, Roman remains and panoramic view
 s over the Argolic plain.\\n\\nTransportation by private bus from Athens. 
 Meeting time 06:40 AM at Agios Antonios Metro Station.\\n\\nThe day conclu
 des with a stop at a traditional local taverna.\\n\\nOrganized by Wanderlu
 st Outdoor Activities.
 END:VEVENT
 END:VCALENDAR
 
LOCATION:Mycenae branch\, Municipal Unit of Mykines\, Peloponnese\, Western
  Greece and the Ionian\, Greece
DTSTART:20260329T040000Z
DTEND:20260329T173000Z
DTSTAMP:20260211T094437Z
ORGANIZER;CN=Wanderlust Outdoor Activities:MAILTO:info@wanderlustactivities
 .gr
GEO:37.731811;22.756549
X-APPLE-STRUCTURED-LOCATION;VALUE=URI;X-ADDRESS=Mycenae branch\, Municipal 
 Unit of Mykines\, Peloponnese\, Western Greece and the Ionian\, Greece;X-A
 PPLE-RADIUS=72;X-TITLE=Archaeological Museum of Mycenae:37.731811;22.75654
 9
END:VEVENT
END:VCALENDAR