BEGIN:VCALENDAR
VERSION:2.0
PRODID:Events Booking
BEGIN:VEVENT
UID:69e9421082ad4
SUMMARY:Πεζοπορία στον Χάραδρο Πάρνηθα | Μπά
 φι – Μόλα – Μεσιανό Νερό
DESCRIPTION:BEGIN:VCALENDAR
 VERSION:2.0
 PRODID:-//Wanderlust Outdoor Ac
 tivities & Travel//EN
 CALSCALE:GREGORIAN
 BEGIN:VEVENT
 UID:parnitha-h
 aradros-20260104@wanderlustactivities.gr
 DTSTAMP:20260101T120000Z
 DTST
 ART\;VALUE=DATE:20260104
 DTEND\;VALUE=DATE:20260105
 SUMMARY:Πεζοπ
 ορία στον Χάραδρο | Πάρνηθα
 DESCRIPTION:Πεζοπ
 ορία στον Εθνικό Δρυμό Πάρνηθας με διαδρ
 ομή από το καταφύγιο Μπάφι προς τη Μόλα\, 
 το μονοπάτι του ποταμού Χάραδρου και επι
 στροφή από το Μεσιανό Νερό. Ελατοσκέπαστ
 ο τοπίο\, οροπέδια\, φυσικές πηγές και θέε
 ς προς τον Ευβοϊκό.
 LOCATION:Εθνικός Δρυμός 
 Πάρνηθας\, Αττική
 END:VEVENT
 END:VCALENDAR
 
DTSTART:20260104T080000Z
DTEND:20260104T121500Z
DTSTAMP:20251217T093744Z
ORGANIZER;CN=Wanderlust Outdoor Activities:MAILTO:info@wanderlustactivities
 .gr
END:VEVENT
END:VCALENDAR