BEGIN:VCALENDAR
VERSION:2.0
PRODID:Events Booking
BEGIN:VEVENT
UID:69e941d132066
SUMMARY:Πεζοπορία στον Υμηττό – Κυκλική Δια
 δρομή στο Αισθητικό Δάσος Καισαριανής
DESCRIPTION:
 Το Σάββατο 13 Δεκεμβρίου σε προσκ
 αλούμε σε μια ολοκληρωμένη πεζοπορική ε
 ξόρμηση στον Υμηττό. Μια κυκλική διαδρομ
 ή στο αισθητικό δάσος Καισαριανής που συ
 νδυάζει φύση\, ιστορία και χαλάρωση\, λίγ
 α μόλις λεπτά από το κέντρο της Αθήνας.
 
 
 
 
LOCATION:XQ7V+JC Kesariani\, Greece
DTSTART:20251213T070000Z
DTEND:20251213T110000Z
DTSTAMP:20251119T060320Z
ORGANIZER;CN=Wanderlust Outdoor Activities:MAILTO:info@wanderlustactivities
 .gr
GEO:37.964233;23.792698
X-APPLE-STRUCTURED-LOCATION;VALUE=URI;X-ADDRESS=XQ7V+JC Kesariani\, Greece;
 X-APPLE-RADIUS=72;X-TITLE=Πυροφυλάκιο Καισαριανής :3
 7.964233;23.792698
END:VEVENT
END:VCALENDAR