BEGIN:VCALENDAR
VERSION:2.0
PRODID:Events Booking
BEGIN:VEVENT
UID:69e941991e6cc
SUMMARY:Πεζοπορία στον Υμηττό – Κυκλική Δια
 δρομή στο Αισθητικό Δάσος Καισαριανής 
DESCRIPTION:
 Την Κυριακή 18 Ιανουαρίου&nbsp\;σε π
 ροσκαλούμε σε μια ολοκληρωμένη πεζοπορι
 κή εξόρμηση στον Υμηττό. Μια κυκλική δια
 δρομή στο αισθητικό δάσος Καισαριανής π
 ου συνδυάζει φύση\, ιστορία και χαλάρωση\
 , λίγα μόλις λεπτά από το κέντρο της Αθήν
 ας.
 
 
 
LOCATION:XQ7V+JC Kesariani\, Greece
DTSTART:20260118T070000Z
DTEND:20260118T110000Z
DTSTAMP:20260105T204448Z
ORGANIZER;CN=Wanderlust Outdoor Activities:MAILTO:info@wanderlustactivities
 .gr
GEO:37.964233;23.792698
X-APPLE-STRUCTURED-LOCATION;VALUE=URI;X-ADDRESS=XQ7V+JC Kesariani\, Greece;
 X-APPLE-RADIUS=72;X-TITLE=Πυροφυλάκιο Καισαριανής :3
 7.964233;23.792698
END:VEVENT
END:VCALENDAR