BEGIN:VCALENDAR
VERSION:2.0
PRODID:Events Booking
BEGIN:VEVENT
UID:69e9425bc7f50
SUMMARY:Πεζοπορία Βυτίνα – Νυμφασία | Κυκλικ
 ή Διαδρομή στο Μαίναλο\, Αρκαδία
DESCRIPTION:BEGIN:VCALENDAR
 VERSION:2.0
 PRODID:-//Wanderlust Outdoor Ac
 tivities & Travel//Event//EL
 CALSCALE:GREGORIAN
 METHOD:PUBLISH
 BEGIN
 :VTIMEZONE
 TZID:Europe/Athens
 X-LIC-LOCATION:Europe/Athens
 BEGIN:DAY
 LIGHT
 TZOFFSETFROM:+0200
 TZOFFSETTO:+0300
 TZNAME:EEST
 DTSTART:1970
 0329T030000
 RRULE:FREQ=YEARLY\;BYMONTH=3\;BYDAY=-1SU
 END:DAYLIGHT
 BE
 GIN:STANDARD
 TZOFFSETFROM:+0300
 TZOFFSETTO:+0200
 TZNAME:EET
 DTSTAR
 T:19701025T040000
 RRULE:FREQ=YEARLY\;BYMONTH=10\;BYDAY=-1SU
 END:STANDA
 RD
 END:VTIMEZONE
 BEGIN:VEVENT
 UID:vytina-nymfasia-20260315@wanderlus
 tactivities.gr
 DTSTAMP:20260201T120000Z
 DTSTART\;TZID=Europe/Athens:20
 260315T070000
 DTEND\;TZID=Europe/Athens:20260315T200000
 SUMMARY:Πεζ
 οπορία Βυτίνα – Νυμφασία | Κυκλική Διαδρ
 ομή στο Μαίναλο\, Αρκαδία
 LOCATION:Βυτίνα – 
 Νυμφασία\, Μαίναλο\, Αρκαδία\, Πελοπόννησ
 ος
 DESCRIPTION:Την Κυριακή 15 Μαρτίου 2026 πεζοπ
 ορούμε στο Μαίναλο\, στην Αρκαδία της Πελ
 οποννήσου\, σε μια κυκλική διαδρομή Βυτί
 να – Νυμφασία. Ακολουθούμε το 5ο τμήμα το
 υ Mainalon Trail και επιστρέφουμε από το Ε4.\\n\\nΏ
 ρα εκκίνησης πεζοπορίας: 07:00 (αυστηρά).\\nΣ
 ημείο συνάντησης: Μετρό Αγίου Αντωνίου 06
 :40.\\nΚατόπιν αιτήματος στάσεις: Βασιλόπο
 υλος Παλατάκι\, Praktiker Ελευσίνας.\\nΕπιστρο
 φή στην Αθήνα έως τις 20:00.\\n\\nΠληροφορίες:
  www.wanderlustactivities.gr
 STATUS:CONFIRMED
 TRANSP:OPAQUE
 END:VEVE
 NT
 END:VCALENDAR
 
LOCATION:Municipal Unit of Vytina\, 22010 Peloponnese\, Western Greece and 
 the Ionian\, Greece
DTSTART:20260315T050000Z
DTEND:20260315T180000Z
DTSTAMP:20260203T203506Z
ORGANIZER;CN=Wanderlust Outdoor Activities:MAILTO:info@wanderlustactivities
 .gr
GEO:37.670408;22.182656
X-APPLE-STRUCTURED-LOCATION;VALUE=URI;X-ADDRESS=Municipal Unit of Vytina\, 
 22010 Peloponnese\, Western Greece and the Ionian\, Greece;X-APPLE-RADIUS=
 72;X-TITLE=Βυτίνα :37.670408;22.182656
END:VEVENT
END:VCALENDAR