BEGIN:VCALENDAR
VERSION:2.0
PRODID:Events Booking
BEGIN:VEVENT
UID:69e92e911b566
SUMMARY:Trekking with Your Dog – Πεζοπορία στον Βόρειο
  Υμηττό 
DESCRIPTION:Trekking with your dog στον Βόρειο Υμηττό τη
 ν Κυριακή 18 Ιανουαρίου! Μια εύκολη\, ασφα
 λής και διασκεδαστική πεζοπορία για ανθ
 ρώπους και σκύλους\, με παράλληλη διάλεξ
 η από επαγγελματία εκπαιδευτή.
 
LOCATION:Μονή Αγίου Ιωάννου Κυνηγού\, Σήραγγα
  Κολλεγίου\, Αγία Παρασκευή\, Δήμος Αγίας 
 Παρασκευής\, Περιφερειακή Ενότητα Βορεί
 ου Τομέα Αθηνών\, Περιφέρεια Αττικής\, Απ
 οκεντρωμένη Διοίκηση Αττικής\, 150 01\, Ελλά
 δα
DTSTART:20260118T080000Z
DTEND:20260118T110000Z
DTSTAMP:20260108T053252Z
ORGANIZER;CN=Wanderlust Outdoor Activities:MAILTO:info@wanderlustactivities
 .gr
GEO:38.002723;23.836778
X-APPLE-STRUCTURED-LOCATION;VALUE=URI;X-ADDRESS=Μονή Αγίου Ιωά
 ννου Κυνηγού\, Σήραγγα Κολλεγίου\, Αγία Π
 αρασκευή\, Δήμος Αγίας Παρασκευής\, Περιφ
 ερειακή Ενότητα Βορείου Τομέα Αθηνών\, Π
 εριφέρεια Αττικής\, Αποκεντρωμένη Διοίκ
 ηση Αττικής\, 150 01\, Ελλάδα;X-APPLE-RADIUS=72;X-TITLE=Ι
 ερά Μονή Αγίου Ιωάννου Κυνηγού :38.002723;23.836
 778
END:VEVENT
END:VCALENDAR