BEGIN:VCALENDAR
VERSION:2.0
PRODID:Events Booking
BEGIN:VEVENT
UID:69e92e56de303
SUMMARY:Trekking with Your Dog – Πεζοπορία στον Βόρειο
  Υμηττό
DESCRIPTION:Trekking with your dog στον Βόρειο Υμηττό το 
 Σάββατο 18 Οκτωβρίου! Μια εύκολη\, ασφαλής
  και διασκεδαστική πεζοπορία για ανθρώπ
 ους και σκύλους\, με παράλληλη διάλεξη απ
 ό επαγγελματία εκπαιδευτή.
 
LOCATION:Μονή Αγίου Ιωάννου Κυνηγού\, Σήραγγα
  Κολλεγίου\, Αγία Παρασκευή\, Δήμος Αγίας 
 Παρασκευής\, Περιφερειακή Ενότητα Βορεί
 ου Τομέα Αθηνών\, Περιφέρεια Αττικής\, Απ
 οκεντρωμένη Διοίκηση Αττικής\, 150 01\, Ελλά
 δα
DTSTART:20251018T070000Z
DTEND:20251018T100000Z
DTSTAMP:20250911T100543Z
ORGANIZER;CN=Wanderlust Outdoor Activities:MAILTO:info@wanderlustactivities
 .gr
GEO:38.002723;23.836778
X-APPLE-STRUCTURED-LOCATION;VALUE=URI;X-ADDRESS=Μονή Αγίου Ιωά
 ννου Κυνηγού\, Σήραγγα Κολλεγίου\, Αγία Π
 αρασκευή\, Δήμος Αγίας Παρασκευής\, Περιφ
 ερειακή Ενότητα Βορείου Τομέα Αθηνών\, Π
 εριφέρεια Αττικής\, Αποκεντρωμένη Διοίκ
 ηση Αττικής\, 150 01\, Ελλάδα;X-APPLE-RADIUS=72;X-TITLE=Ι
 ερά Μονή Αγίου Ιωάννου Κυνηγού :38.002723;23.836
 778
END:VEVENT
END:VCALENDAR