BEGIN:VCALENDAR
VERSION:2.0
PRODID:Events Booking
BEGIN:VEVENT
UID:69e92e234e212
SUMMARY:Trekking With Your Dog
DESCRIPTION:&nbsp\;Το Σάββατο 27/1 θα πεζοπορήσουμε
  στο Ποικίλο Όρος με τους τετράποδους φί
 λους μας και θα ανέβουμε στην κορυφή Ζαχ
 αρίτσα!
 
 
 
 
 
 
 
LOCATION:3M3M+49 Ίλιον\, Ελλάδα
DTSTART:20240127T070000Z
DTEND:20240127T110000Z
DTSTAMP:20230918T170558Z
ORGANIZER;CN=Wanderlust Outdoor Activities:MAILTO:info@wanderlustactivities
 .gr
GEO:38.052804;23.683407
X-APPLE-STRUCTURED-LOCATION;VALUE=URI;X-ADDRESS=3M3M+49 Ίλιον\, Ελλ
 άδα;X-APPLE-RADIUS=72;X-TITLE=Ποικίλο Όρος /Πετρούπο
 λη :38.052804;23.683407
END:VEVENT
END:VCALENDAR