BEGIN:VCALENDAR
VERSION:2.0
PRODID:Events Booking
BEGIN:VEVENT
UID:69e92de352892
SUMMARY:Trekking With Your Dog   
DESCRIPTION:Το Σάββατο 5/10 θα πεζοπορήσουμε παρ
 έα με τους τετράποδους φίλους μας για να 
 περάσουμε όμορφα στο αισθητικό δάσος το
 υ Υμηττού!!
 
 
 
 
 
 
 
 
 
 
 
LOCATION:XQ7V+JC Kesariani\, Greece
DTSTART:20241005T070000Z
DTEND:20241005T103000Z
DTSTAMP:20231005T185118Z
ORGANIZER;CN=Wanderlust Outdoor Activities:MAILTO:info@wanderlustactivities
 .gr
GEO:37.964233;23.792698
X-APPLE-STRUCTURED-LOCATION;VALUE=URI;X-ADDRESS=XQ7V+JC Kesariani\, Greece;
 X-APPLE-RADIUS=72;X-TITLE=Πυροφυλάκιο Καισαριανής :3
 7.964233;23.792698
END:VEVENT
END:VCALENDAR